BEGIN:VCALENDAR
VERSION:2.0
PRODID:-//Colerain H.O.P.E - ECPv6.15.18//NONSGML v1.0//EN
CALSCALE:GREGORIAN
METHOD:PUBLISH
X-ORIGINAL-URL:https://colerainhope.org
X-WR-CALDESC:Events for Colerain H.O.P.E
REFRESH-INTERVAL;VALUE=DURATION:PT1H
X-Robots-Tag:noindex
X-PUBLISHED-TTL:PT1H
BEGIN:VTIMEZONE
TZID:UTC
BEGIN:STANDARD
TZOFFSETFROM:+0000
TZOFFSETTO:+0000
TZNAME:UTC
DTSTART:20250101T000000
END:STANDARD
END:VTIMEZONE
BEGIN:VEVENT
DTSTART;TZID=UTC:20260422T110000
DTEND;TZID=UTC:20260422T143000
DTSTAMP:20260422T115936
CREATED:20260409T172729Z
LAST-MODIFIED:20260409T172729Z
UID:4111-1776855600-1776868200@colerainhope.org
SUMMARY:Volunteers Needed to show students just what it takes to be an adult.
DESCRIPTION:Northwest High School Game of Life\nWednesday\, April 22nd\, 11:00 am-2:30 pm\nNorthwest High School\, 10761 Pippin Rd.\nCincinnati\, OH 45231 \nLunch and snacks will be provided. \nAbout the Game: The Game of Life shows students just what it takes to be an adult. Students will contend with parenthood\, housing\, taxes\, transportation\, and life’s little surprises\, with the goal of having some money left over at the end of the month\, just as in real life. \nVolunteer Details: We need a number of volunteers to make this a success. No special skills are needed\, just adults who have learned to navigate through life! Volunteers will staff a station at the game. Chairs will be available\, so volunteers may be seated during the game.
URL:https://colerainhope.org/event/volunteers-needed-to-show-students-just-what-it-takes-to-be-an-adult-2/
LOCATION:Northwest High School\, 10761 Pippin Road\, Cincinnati\, OH\, 45231\, United States
END:VEVENT
BEGIN:VEVENT
DTSTART;TZID=UTC:20260424T170000
DTEND;TZID=UTC:20260424T190000
DTSTAMP:20260422T115936
CREATED:20260409T164222Z
LAST-MODIFIED:20260409T164529Z
UID:4072-1777050000-1777057200@colerainhope.org
SUMMARY:Free Community Meal at Resounding Joy Church
DESCRIPTION:All Welcome!  Hot meal for the whole family between 5 and 7 PM.  No reservation needed. \nResounding Joy Church\, 8735 Cheviot Road\, 45251 \nJust south of Colerain High School
URL:https://colerainhope.org/event/free-community-meal-at-resounding-joy-church/
LOCATION:Resounding Joy Church\, 8735 Cheviot Road\, Cincinnati\, OH\, 45251\, United States
END:VEVENT
BEGIN:VEVENT
DTSTART;TZID=UTC:20260430T100000
DTEND;TZID=UTC:20260430T140000
DTSTAMP:20260422T115936
CREATED:20260409T170808Z
LAST-MODIFIED:20260409T170933Z
UID:4094-1777543200-1777557600@colerainhope.org
SUMMARY:Community Help Day: Health\, Job\, Housing & Social Services Assistance
DESCRIPTION:FREE at ResoundingJoy Church \n8735 Cheviot Rd.\, Cincinnati\, OH 45251 \nApril 30\, 2026 \n10am – 2pm \nProviders with the Hamilton County 513Relief Bus: Council on Aging • Veterans Service Commission • Jobs & Family Services • Housing Opportunities Made Equal • People Working Cooperatively • Habitat for Humanity • Talbert House Mental Health Services • UC Medical • Careforth • Closing the Health Gap • Hamilton County Developmental Disability Services • Anthem • Greater Cincinnati Waterworks • Metropolitan Sewer District • Gen Mobile \nAdditional providers will also be available as well as FREE hot lunch\, clothing\, home/hygiene products and books while supplies last. \nRequirements & Logistics \n\n\nWalk in – no appointment required \n\n\n~100 applications will be processed by 513 Bus \n\n\nFor Applications Bring: ID\, Social Security Info\, Birth Certificate\, Proof of Income & Residence
URL:https://colerainhope.org/event/community-help-day-health-job-housing-social-services-assistance/
LOCATION:Resounding Joy Church\, 8735 Cheviot Road\, Cincinnati\, OH\, 45251\, United States
END:VEVENT
END:VCALENDAR