BEGIN:VCALENDAR
VERSION:2.0
PRODID:-//Colerain H.O.P.E - ECPv6.15.18//NONSGML v1.0//EN
CALSCALE:GREGORIAN
METHOD:PUBLISH
X-ORIGINAL-URL:https://colerainhope.org
X-WR-CALDESC:Events for Colerain H.O.P.E
REFRESH-INTERVAL;VALUE=DURATION:PT1H
X-Robots-Tag:noindex
X-PUBLISHED-TTL:PT1H
BEGIN:VTIMEZONE
TZID:UTC
BEGIN:STANDARD
TZOFFSETFROM:+0000
TZOFFSETTO:+0000
TZNAME:UTC
DTSTART:20250101T000000
END:STANDARD
END:VTIMEZONE
BEGIN:VEVENT
DTSTART;TZID=UTC:20260523T180000
DTEND;TZID=UTC:20260523T220000
DTSTAMP:20260422T152133
CREATED:20260409T165142Z
LAST-MODIFIED:20260409T165221Z
UID:4080-1779559200-1779573600@colerainhope.org
SUMMARY:Little Brothers Friends of the Elderly "Flowers Before Bread" Gala
DESCRIPTION:29th Anniversary Gala: 6-10PM \nWillow Event Center
URL:https://colerainhope.org/event/little-brothers-friends-of-the-elderly-flowers-before-bread-gala/
LOCATION:Willow Event Center\, 7881 Colerain Ave\, Cincinnati\, 45239\, United States
END:VEVENT
END:VCALENDAR