BEGIN:VCALENDAR
VERSION:2.0
PRODID:-//Colerain H.O.P.E - ECPv6.15.18//NONSGML v1.0//EN
CALSCALE:GREGORIAN
METHOD:PUBLISH
X-WR-CALNAME:Colerain H.O.P.E
X-ORIGINAL-URL:https://colerainhope.org
X-WR-CALDESC:Events for Colerain H.O.P.E
REFRESH-INTERVAL;VALUE=DURATION:PT1H
X-Robots-Tag:noindex
X-PUBLISHED-TTL:PT1H
BEGIN:VTIMEZONE
TZID:UTC
BEGIN:STANDARD
TZOFFSETFROM:+0000
TZOFFSETTO:+0000
TZNAME:UTC
DTSTART:20250101T000000
END:STANDARD
END:VTIMEZONE
BEGIN:VEVENT
DTSTART;TZID=UTC:20260505T180000
DTEND;TZID=UTC:20260505T210000
DTSTAMP:20260422T151828
CREATED:20260311T152333Z
LAST-MODIFIED:20260409T174629Z
UID:3984-1778004000-1778014800@colerainhope.org
SUMMARY:Cinco de Neon: Help Squad Community Fundraiser
DESCRIPTION:American Sign Museum @6 PM.  Hosted by Sheree Paolello and Mike Dardis\nDinner\, Valet Parking and Full Museum Access Included  $75/per person\nTickets available at https://www.thehelpsquadcincy.com/
URL:https://colerainhope.org/event/cinco-de-neon-help-squad-community-fundraiser/
LOCATION:American Sign Museum\, 1330 Monmouth Avenue\, Cincinnati\, OH\, 45225\, United States
END:VEVENT
END:VCALENDAR