BEGIN:VCALENDAR
VERSION:2.0
PRODID:-//Colerain H.O.P.E - ECPv6.15.18//NONSGML v1.0//EN
CALSCALE:GREGORIAN
METHOD:PUBLISH
X-WR-CALNAME:Colerain H.O.P.E
X-ORIGINAL-URL:https://colerainhope.org
X-WR-CALDESC:Events for Colerain H.O.P.E
REFRESH-INTERVAL;VALUE=DURATION:PT1H
X-Robots-Tag:noindex
X-PUBLISHED-TTL:PT1H
BEGIN:VTIMEZONE
TZID:UTC
BEGIN:STANDARD
TZOFFSETFROM:+0000
TZOFFSETTO:+0000
TZNAME:UTC
DTSTART:20250101T000000
END:STANDARD
END:VTIMEZONE
BEGIN:VEVENT
DTSTART;TZID=UTC:20260430T100000
DTEND;TZID=UTC:20260430T140000
DTSTAMP:20260422T133850
CREATED:20260409T170808Z
LAST-MODIFIED:20260409T170933Z
UID:4094-1777543200-1777557600@colerainhope.org
SUMMARY:Community Help Day: Health\, Job\, Housing & Social Services Assistance
DESCRIPTION:FREE at ResoundingJoy Church \n8735 Cheviot Rd.\, Cincinnati\, OH 45251 \nApril 30\, 2026 \n10am – 2pm \nProviders with the Hamilton County 513Relief Bus: Council on Aging • Veterans Service Commission • Jobs & Family Services • Housing Opportunities Made Equal • People Working Cooperatively • Habitat for Humanity • Talbert House Mental Health Services • UC Medical • Careforth • Closing the Health Gap • Hamilton County Developmental Disability Services • Anthem • Greater Cincinnati Waterworks • Metropolitan Sewer District • Gen Mobile \nAdditional providers will also be available as well as FREE hot lunch\, clothing\, home/hygiene products and books while supplies last. \nRequirements & Logistics \n\n\nWalk in – no appointment required \n\n\n~100 applications will be processed by 513 Bus \n\n\nFor Applications Bring: ID\, Social Security Info\, Birth Certificate\, Proof of Income & Residence
URL:https://colerainhope.org/event/community-help-day-health-job-housing-social-services-assistance/
LOCATION:Resounding Joy Church\, 8735 Cheviot Road\, Cincinnati\, OH\, 45251\, United States
END:VEVENT
END:VCALENDAR